BEGIN:VCALENDAR
VERSION:2.0
PRODID:-//eventlistingusa.com - ECPv6.15.20//NONSGML v1.0//EN
CALSCALE:GREGORIAN
METHOD:PUBLISH
X-WR-CALNAME:eventlistingusa.com
X-ORIGINAL-URL:https://eventlistingusa.com
X-WR-CALDESC:Events for eventlistingusa.com
REFRESH-INTERVAL;VALUE=DURATION:PT1H
X-Robots-Tag:noindex
X-PUBLISHED-TTL:PT1H
BEGIN:VTIMEZONE
TZID:America/New_York
BEGIN:DAYLIGHT
TZOFFSETFROM:-0500
TZOFFSETTO:-0400
TZNAME:EDT
DTSTART:20250309T070000
END:DAYLIGHT
BEGIN:STANDARD
TZOFFSETFROM:-0400
TZOFFSETTO:-0500
TZNAME:EST
DTSTART:20251102T060000
END:STANDARD
BEGIN:DAYLIGHT
TZOFFSETFROM:-0500
TZOFFSETTO:-0400
TZNAME:EDT
DTSTART:20260308T070000
END:DAYLIGHT
BEGIN:STANDARD
TZOFFSETFROM:-0400
TZOFFSETTO:-0500
TZNAME:EST
DTSTART:20261101T060000
END:STANDARD
BEGIN:DAYLIGHT
TZOFFSETFROM:-0500
TZOFFSETTO:-0400
TZNAME:EDT
DTSTART:20270314T070000
END:DAYLIGHT
BEGIN:STANDARD
TZOFFSETFROM:-0400
TZOFFSETTO:-0500
TZNAME:EST
DTSTART:20271107T060000
END:STANDARD
END:VTIMEZONE
BEGIN:VEVENT
DTSTART;TZID=America/New_York:20260101T063000
DTEND;TZID=America/New_York:20260101T090000
DTSTAMP:20260422T181430
CREATED:20251020T161354Z
LAST-MODIFIED:20251129T214128Z
UID:70447-1767249000-1767258000@eventlistingusa.com
SUMMARY:Sunrise at the Swinging Bridge
DESCRIPTION:This event is SOLD OUT. To be placed on the waiting list\, please email judi@grandfather.com with your name\, phone number and the number of tickets you are interested in reserving. \nCelebrate the beginning of 2026 from a mile high! The New Year’s “Sunrise at the Swinging Bridge” event will provide guests with the rare opportunity to be in the park before regular operating hours and to hopefully witness a captivating sunrise from the Mile High Swinging Bridge – the first of 2026! \nSunrise is at 7:38 a.m.\, and park gates open at 6:30 a.m. Due to safety regulations\, participants may only visit the Mile High Swinging Bridge area during the event. To help warm up on a likely cold winter’s morning\, the mountain will offer a complimentary hot beverage bar and doughnuts for sunrise guests in the Top Shop building from 6:30 – 8 a.m. The restrooms in the Top Shop will also be accessible. \nParticipants are encouraged to bring a flashlight and wear heavy winter jackets\, hats\, gloves and rubber-soled shoes. \nTickets\nTickets go on sale below at 10 a.m. Tuesday\, Nov 4. Event tickets include an entire day’s access to Grandfather. As the remainder of the park doesn’t open until 9 a.m.\, participants are welcome to leave the mountain following sunrise and return later in the day for no additional cost. \nThis event is SOLD OUT. To be placed on the waiting list\, please email judi@grandfather.com with your name\, phone number and the number of tickets you are interested in reserving. \nCancellations and Refunds\nTo receive a full refund\, guests must cancel prior to 5 p.m. Tuesday\, Dec. 23. Cancellations following that date are not eligible for a refund. To cancel\, email judi@grandfather.com or call 828-733-2013. \nIn addition\, the event may be canceled on short notice in case of inclement weather\, and tickets will be refunded if that is the case. We will make a decision on the event by 12 p.m. on Tuesday\, Dec. 30. It is important to check your email regularly leading up to the event so you know what the final plans are. \nA picture-perfect sunrise\, unfortunately\, cannot be guaranteed.
URL:https://eventlistingusa.com/eventtdm/sunrise-at-the-swinging-bridge-2/
LOCATION:Grandfather Mountain\, 2050 Blowing Rock Highway\, Linville\, NC\, 28646\, United States
CATEGORIES:Featured Events,Science & Nature
ATTACH;FMTTYPE=image/jpeg:https://eventlistingusa.com/wp-content/uploads/2025/10/20241106-DSC02751-Edit-it4PoA.jpg
END:VEVENT
END:VCALENDAR