BEGIN:VCALENDAR
VERSION:2.0
PRODID:-//eventlistingusa.com - ECPv6.15.20//NONSGML v1.0//EN
CALSCALE:GREGORIAN
METHOD:PUBLISH
X-ORIGINAL-URL:https://eventlistingusa.com
X-WR-CALDESC:Events for eventlistingusa.com
REFRESH-INTERVAL;VALUE=DURATION:PT1H
X-Robots-Tag:noindex
X-PUBLISHED-TTL:PT1H
BEGIN:VTIMEZONE
TZID:America/New_York
BEGIN:DAYLIGHT
TZOFFSETFROM:-0500
TZOFFSETTO:-0400
TZNAME:EDT
DTSTART:20240310T070000
END:DAYLIGHT
BEGIN:STANDARD
TZOFFSETFROM:-0400
TZOFFSETTO:-0500
TZNAME:EST
DTSTART:20241103T060000
END:STANDARD
BEGIN:DAYLIGHT
TZOFFSETFROM:-0500
TZOFFSETTO:-0400
TZNAME:EDT
DTSTART:20250309T070000
END:DAYLIGHT
BEGIN:STANDARD
TZOFFSETFROM:-0400
TZOFFSETTO:-0500
TZNAME:EST
DTSTART:20251102T060000
END:STANDARD
BEGIN:DAYLIGHT
TZOFFSETFROM:-0500
TZOFFSETTO:-0400
TZNAME:EDT
DTSTART:20260308T070000
END:DAYLIGHT
BEGIN:STANDARD
TZOFFSETFROM:-0400
TZOFFSETTO:-0500
TZNAME:EST
DTSTART:20261101T060000
END:STANDARD
END:VTIMEZONE
BEGIN:VEVENT
DTSTART;TZID=America/New_York:20251011T170000
DTEND;TZID=America/New_York:20251011T230000
DTSTAMP:20260422T230914
CREATED:20250821T143845Z
LAST-MODIFIED:20250821T143845Z
UID:68001-1760202000-1760223600@eventlistingusa.com
SUMMARY:Adult Field Course: Grandfather’s Starry Skies
DESCRIPTION:October is one of the best times of year to stargaze at Grandfather Mountain. The air is cool and clear\, and the summer constellations are still very prominent\, with some early winter sights making their appearance later in the evening. Our goal for this class is to create a familiarity with the night sky and learn the basics of stargazing that can be applied on your own on any clear night throughout the year. We’ll start in the classroom by exploring some of the best print and digital resources for exploring the night sky and cover some of the basics of stargazing and how to orient to the night sky. We’ll also discuss the use of planispheres\, star maps and star charts to find some of the most beautiful deep sky wonders that can be seen through binoculars or small telescopes. During the evening hours\, we’ll be out at various viewing locations on the mountain\, practicing our stargazing skills while looking for meteors and learning about some of the most prominent stars\, constellations and other objects visible this time of year. This event costs $60 for general admission and $51 for members of Grandfather Mountain’s Bridge Club – plus tax. Limited to 15 participants.
URL:https://eventlistingusa.com/eventtdm/adult-field-course-grandfathers-starry-skies/
LOCATION:Grandfather Mountain\, 2050 Blowing Rock Highway\, Linville\, NC\, 28646\, United States
CATEGORIES:Calendar Event,Demonstrations & Education,Outdoor & Active,Science & Nature
ATTACH;FMTTYPE=image/jpeg:https://eventlistingusa.com/wp-content/uploads/2025/08/AFC-Starry-Skies-2WmqZE.jpg
END:VEVENT
BEGIN:VEVENT
DTSTART;VALUE=DATE:20251025
DTEND;VALUE=DATE:20251026
DTSTAMP:20260422T230914
CREATED:20251020T161351Z
LAST-MODIFIED:20251025T165820Z
UID:70441-1761350400-1761436799@eventlistingusa.com
SUMMARY:Beary Scary Halloween
DESCRIPTION:Visit Grandfather Mountain for a day of nature programs about animals that some consider creepy and crawly! This fun-filled celebration includes an opportunity to trick-or-treat on the mountain and then watch special Halloween enrichments be given to the animals. Included with admission. \nPlus\, children in costume are admitted at half-price. Children coming in costume do not need to make advance admission ticket reservations online. The discount will be given at the Entrance Gate. Those planning to visit the park not in costume are strongly encouraged to make advance ticket reservations online at grandfather.com/tickets. \n2025 Beary Scary Schedule: \n\n11 a.m. – 2 p.m. | “Test Your Animal Knowledge” Contest / Contest drawing at 2:15 p.m. (Classroom in the Clouds)\n11 a.m. – 2:30 p.m. | Games and craft table! Come play some fun animal-themed games and make a fun craft. (Classroom in the Clouds)\n11:30 a.m. – 12:30 p.m. | Trick-or-treating at the Animal Habitats (The outdoor locations are weather dependent\, and trick-or-treating will move indoors\, if needed.)\n11:30 a.m. – 2:30 p.m. | Trick-or-treating at the Gate House\, the Wilson Center (Classroom in the Clouds\, Gift Shop) and the Top Shop\n12 – 2 p.m. | Conservation Through Colors Table! Support the American Association of Zoo Keepers and red wolf conservation by purchasing animal paintings\, with a chance to win extra fun prizes! (Classroom in the Clouds)\n12:30 – 1 p.m. | Beary Scary educational program (Outside the Wilson Center under the covered walkway)\n1 – 1:30 p.m. | Animal Encounter! Come meet a few of Grandfather’s resident animals\, including snakes and an opossum. (Classroom in the Clouds)\n1 – 2:15 p.m. | Creepy Critter Corner! Come see some of the mountain’s “creepier” animals. (Classroom in the Clouds)\n1:30 – 2 p.m. | Costume Contest (Classroom in the Clouds)\n2:15 p.m. | “Test Your Animal Knowledge” Contest Drawing! Winners will be announced at the Classroom in the Clouds. Contest winners get the rare opportunity to go behind the scenes to visit the animal they were knowledgeable about! Winners are allowed to take family members with them. Participants must be present to win.\n2:45 – 3:30 p.m. | Enrichment parade throughout the habitats\, starting at the elk habitat! Animals will receive special Halloween enrichments.
URL:https://eventlistingusa.com/eventtdm/beary-scary-halloween-2/
LOCATION:Grandfather Mountain\, 2050 Blowing Rock Highway\, Linville\, NC\, 28646\, United States
CATEGORIES:Featured Events,Habitat Programs,Science & Nature
ATTACH;FMTTYPE=image/jpeg:https://eventlistingusa.com/wp-content/uploads/2025/10/Beary-Scary-MvvkQB.jpg
END:VEVENT
END:VCALENDAR