BEGIN:VCALENDAR
VERSION:2.0
PRODID:-//eventlistingusa.com - ECPv6.15.18//NONSGML v1.0//EN
CALSCALE:GREGORIAN
METHOD:PUBLISH
X-WR-CALNAME:eventlistingusa.com
X-ORIGINAL-URL:https://eventlistingusa.com
X-WR-CALDESC:Events for eventlistingusa.com
REFRESH-INTERVAL;VALUE=DURATION:PT1H
X-Robots-Tag:noindex
X-PUBLISHED-TTL:PT1H
BEGIN:VTIMEZONE
TZID:America/New_York
BEGIN:DAYLIGHT
TZOFFSETFROM:-0500
TZOFFSETTO:-0400
TZNAME:EDT
DTSTART:20240310T070000
END:DAYLIGHT
BEGIN:STANDARD
TZOFFSETFROM:-0400
TZOFFSETTO:-0500
TZNAME:EST
DTSTART:20241103T060000
END:STANDARD
BEGIN:DAYLIGHT
TZOFFSETFROM:-0500
TZOFFSETTO:-0400
TZNAME:EDT
DTSTART:20250309T070000
END:DAYLIGHT
BEGIN:STANDARD
TZOFFSETFROM:-0400
TZOFFSETTO:-0500
TZNAME:EST
DTSTART:20251102T060000
END:STANDARD
BEGIN:DAYLIGHT
TZOFFSETFROM:-0500
TZOFFSETTO:-0400
TZNAME:EDT
DTSTART:20260308T070000
END:DAYLIGHT
BEGIN:STANDARD
TZOFFSETFROM:-0400
TZOFFSETTO:-0500
TZNAME:EST
DTSTART:20261101T060000
END:STANDARD
BEGIN:DAYLIGHT
TZOFFSETFROM:-0500
TZOFFSETTO:-0400
TZNAME:EDT
DTSTART:20270314T070000
END:DAYLIGHT
BEGIN:STANDARD
TZOFFSETFROM:-0400
TZOFFSETTO:-0500
TZNAME:EST
DTSTART:20271107T060000
END:STANDARD
END:VTIMEZONE
BEGIN:VEVENT
DTSTART;TZID=America/New_York:20260214T190000
DTEND;TZID=America/New_York:20260214T220000
DTSTAMP:20260419T124212
CREATED:20251119T203740Z
LAST-MODIFIED:20251129T222703Z
UID:71566-1771095600-1771106400@eventlistingusa.com
SUMMARY:2026 Valentine’s Dinner w/ Wine and Concert
DESCRIPTION:  \n \nStonefield Cellars brings you a fine dining experience with the intimacy and relaxed atmosphere of our Barrel Room.  Each of four courses will be paired with a different Stonefield Cellars Wine. \nThe ticket price covers the four course dinner with wine and also a Concert by Chris and Bonnie Reed\, the ever popular\, talented duo that knows how to deliver romance but can make you laugh as well. They are delightful entertainers and we are happy to bring them back to this annual event! \n– Also note:  Complimentary couples portraits by Natalie are also included!  \n  \nThe Musicians:  Chris and Bonnie Reed\n \n  \n  \nDinner is served in our Barrel Room.  If you are attending the event with another couple (or couples) and purchasing tickets separately\, please include a note in your online ticket order that you would like to be seated with (give their names) or let our staff know when purchasing over the phone.  Also\, please specify your protein and dessert choices at the time of ticket purchase. \nCost is $125 per person \nCaterer is Pepper Moon Catering.   \n  \nDinner Menu:    \nAppetizer –  Croissant Triangles w/Tomato\, herbed cheese\, Pesto\, Balsamic Glaze \nSalad –  Artisan Greens with Red Apples\, Walnuts\, shaved parmesan and apple cider vinaigrette \nMain – Choice of Sirloin Tips with Mushrooms and Pearl Onions in brown gravy or  Grilled Salmon w/Lemon Caper Wine Sauce \nSmashed Potatoes \nWinter Vegetable Medley \nYeast Rolls w/Butter \nDessert –  Choice of ONE dessert – choose from  Death by Chocolate or Classic Cheesecake w/ Raspberry sauce \n– \nPlease include a note at time of ticket order which protein and dessert each ticketed guest wants. \n*The Proposed Wine Pairing is chosen by the Winemaker for the best wine & food combination and is a half-glass of wine with each course. If preferred\, you may substitute the pairing with either your choice of a standard bottle of wine (per 2 guests)\, or two glasses of wine per person. Additional wine is always available for purchase by the bottle or by the glass.\n–\nDeadline for ticket purchase is Thursday\, 2/05/25!  Price is Per Person\, Tax & Gratuity Not Included.\nAs this is a catered dinner\, tickets must be purchased in advance.\n\nOnline: See purchase options below. Online processing fee applies.\n Phone:   Call 336-644-9908\n\nAll tickets purchased are held at Will Call under the name of the purchaser.
URL:https://eventlistingusa.com/eventtdm/2026-valentines-dinner-w-wine-and-concert/
LOCATION:Stonefield Cellars Winery\, 8220 NC-68\, Stokesdale\, NC\, 27357\, United States
CATEGORIES:Beer & Wine,Concert,Dinner,Holiday,Live Music,Ticketed Event,Wine
END:VEVENT
BEGIN:VEVENT
DTSTART;TZID=America/New_York:20260117T193000
DTEND;TZID=America/New_York:20260117T213000
DTSTAMP:20260419T124212
CREATED:20251115T201140Z
LAST-MODIFIED:20251129T222703Z
UID:71448-1768678200-1768685400@eventlistingusa.com
SUMMARY:Barrel Room Concert – Brandon Lee Adams
DESCRIPTION:Stonefield Cellars Barrel Room Concert – Brandon Lee Adams (Country/Folk/Bluegrass/Blues) Saturday 1/17/26 – 7:30pm  (Door Opens at 7pm)\nTickets:  $20 Advance/$25 at Door\n Wine Club Member/$15 Advance\, $20 at Door\nTickets available soon! \nConcert starts at 7:30 pm.  Barrel Room seating starts at 7:00 pm. \nWine\, beer\, and snacks are always available for purchase to enjoy during the concert. \n \nWe are pleased to bring Brandon Lee Adams back to the Stonefield Cellars Barrel Room Stage!  Flatpick Guitar mastery\, great vocal talent\, this is gonna be a good one for the up close and personal setting of our Barrel Room.   Buy your tickets now – we might just fill up the room! \nAbout Brandon Lee Adams:   \nBrandon Lee Adams is a stellar musician and Emmy-winning TV host\, “The Life of A Musician”.  Brandon plays and promotes Americana\, Bluegrass\, and Folk genres.    Recording with iconic artists like Tony Rice\, Carl Jackson\, Scott Vestal\, and more icons of traditional music\,  along with appearing on two Grammy nominated albums and one IBMA award winning album “Celebration of Life”\, Brandon has laid a solid foundation for a long career. \nAlways looking to bring music that is “From a real place inside of me” lyrics and melody are always at the root of every note\, and Brandon sees himself more as a story teller who happens to play an instrument. \nFor more info about Brandon Lee Adams\, visit his website:  https://brandonleeadams.com/home \nFor a great example of his music:   https://youtu.be/t2W_NLz850I?si=ykERxtlAYhQd_4yP \n\nBarrel Room Concert Etiquette Reminder:  This concert is held in our intimate barrel room and is intended to be a listening experience.  Audience is expected to be respectful of the artist’s performance and their listening neighbors\, so loud talking and cell phone use is discouraged during quiet songs\, but Dancing\, Clapping\, etc. is welcomed during upbeat songs (take your cue from the band and those around you!).\nVenue Policies:  No outside alcohol\, no pets\, NO Smoking property. \nConcert tickets are non-refundable.
URL:https://eventlistingusa.com/eventtdm/barrel-room-concert-brandon-lee-adams/
LOCATION:Stonefield Cellars Winery\, 8220 NC-68\, Stokesdale\, NC\, 27357\, United States
CATEGORIES:Beer & Wine,Concert
END:VEVENT
BEGIN:VEVENT
DTSTART;TZID=America/New_York:20251122T193000
DTEND;TZID=America/New_York:20251122T213000
DTSTAMP:20260419T124212
CREATED:20251012T142539Z
LAST-MODIFIED:20251122T214831Z
UID:68923-1763839800-1763847000@eventlistingusa.com
SUMMARY:Barrel Room Concert by Guitar Master Pierre Bensusan
DESCRIPTION:Saturday\, November 22\, 2025 –  Guitar Master Pierre Bensusan performs an intimate Barrel Room Concert at Stonefield Cellars Winery – 7:30-9:30pm  (Door opens at 7:00pm for wine purchases and seating)\n \nTickets are $35 in advance ($40 at door) – non-wine club member price. \nWine Club Member price is $30 in advance ($35 at door) \n  \nStonefield Cellars is so proud bring back to the Barrel Room stage the talented French-Algerian acoustic guitar virtuoso\, vocalist and composer Pierre Bensusan\, surnamed “Mister DADGAD”\, who has taken his unique sound to all corners of the globe.  We are happy to part of the…. \n \nWinner of the Independent Music Award for his triple live album “Encore”\, voted Best World Music Guitarist by Guitar Player Magazine reader’s Poll\, winner of the Rose d’Or at the Montreux Festival for his debut album\, Pierre is recognized as one of the greatest guitar players of the 21st century.  For a full biography and more accolades about Pierre\, please visit his website: \nwww.pierrebensusan.com \nTickets may be purchased Online (see below)\, Over the Phone at 336-644-9908\, or In Person at the winery during Business Hours. \nTickets:  Advanced Ticket purchase is highly recommended as seating in our Barrel Room is limited. \nWine and beer sold separately. Stonefield Cellars appreciates your support through your purchases of beverages!
URL:https://eventlistingusa.com/eventtdm/barrel-room-concert-by-guitar-master-pierre-bensusan/
LOCATION:Stonefield Cellars Winery\, 8220 NC-68\, Stokesdale\, NC\, 27357\, United States
CATEGORIES:Beer & Wine,Concert,Live Music,Ticketed Event
END:VEVENT
END:VCALENDAR